BEGIN:VCALENDAR
VERSION:2.0
PRODID:SchoolNow
CALSCALE:GREGORIAN
BEGIN:VEVENT
UID:e238f3d8-c579-11f0-923d-0e87b21e145b
DTSTAMP:20251119T201239Z
SUMMARY:CDD Board Meeting - Oct. 2025
LOCATION:the Offices of Inframark located at 2005 Pan Am Circle\, Suite 300
 \, Tampa\, FL 33607
URL;VALUE=URI:https://www.berrybaycdd.com/calendar/8804086/cdd-board-meetin
 g-oct-2025
DTSTART:20251002T180000Z
DTEND:20251002T190000Z
END:VEVENT
END:VCALENDAR
