BEGIN:VCALENDAR
VERSION:2.0
PRODID:SchoolNow
CALSCALE:GREGORIAN
BEGIN:VEVENT
UID:eee35a88-c579-11f0-9707-0a58a9feac02
DTSTAMP:20251119T201233Z
SUMMARY:CDD Board Meeting - Nov. 2025
LOCATION:the Offices of Inframark located at 2005 Pan Am Circle\, Suite 300
 \, Tampa\, FL 33607
URL;VALUE=URI:https://www.berrybaycdd.com/calendar/8804088/cdd-board-meetin
 g-nov-2025
DTSTART:20251106T190000Z
DTEND:20251106T200000Z
END:VEVENT
END:VCALENDAR
