BEGIN:VCALENDAR
VERSION:2.0
PRODID:SchoolNow
CALSCALE:GREGORIAN
BEGIN:VEVENT
UID:f780691a-c579-11f0-ab2d-0e87b21e145b
DTSTAMP:20260120T175356Z
SUMMARY:CDD Board Meeting - Dec. 2025 - Cancelled
LOCATION:the Offices of Inframark located at 2005 Pan Am Circle\, Suite 300
 \, Tampa\, FL 33607
URL;VALUE=URI:https://www.berrybaycdd.com/calendar/8804172/cdd-board-meetin
 g-dec-2025-cancelled
DTSTART:20251204T190000Z
DTEND:20251204T200000Z
END:VEVENT
END:VCALENDAR
