BEGIN:VCALENDAR
VERSION:2.0
PRODID:SchoolNow
CALSCALE:GREGORIAN
BEGIN:VEVENT
UID:021e4eb4-c57a-11f0-a572-0e87b21e145b
DTSTAMP:20260120T175504Z
SUMMARY:CDD Board Meeting - Jan. 2026
LOCATION:The Offices of Inframark located at 2005 Pan Am Circle\, Suite 300
 \, Tampa\, FL 33607
URL;VALUE=URI:https://www.berrybaycdd.com/calendar/8804183/cdd-board-meetin
 g-jan-2026
DTSTART:20260108T190000Z
DTEND:20260108T200000Z
ATTACH;FILENAME=2026-01-08 Berry Bay Agenda.pdf;FMTTYPE=application/pdf:htt
 ps://campussuite-storage.s3.amazonaws.com/prod/1559303/cb94cfdc-baaa-11f0-
 876d-0ed803c557bd/3061829/aa200db2-f628-11f0-a2e6-0a58a9feac02/file/2026-0
 1-08 Berry Bay Agenda.pdf
END:VEVENT
END:VCALENDAR
