BEGIN:VCALENDAR
VERSION:2.0
PRODID:SchoolNow
CALSCALE:GREGORIAN
BEGIN:VEVENT
UID:0aa32708-c57a-11f0-a8be-0a58a9feac02
DTSTAMP:20260219T170432Z
SUMMARY:CDD Board Meeting - Feb. 2026
LOCATION:the Offices of Inframark located at 2005 Pan Am Circle\, Suite 300
 \, Tampa\, FL 33607
URL;VALUE=URI:https://www.berrybaycdd.com/calendar/8804200/cdd-board-meetin
 g-feb-2026
DTSTART:20260205T190000Z
DTEND:20260205T200000Z
ATTACH;FILENAME=2026-02-05 - Berry Bay CDD Agenda Package.pdf;FMTTYPE=appli
 cation/pdf:https://campussuite-storage.s3.amazonaws.com/prod/1559303/cb94c
 fdc-baaa-11f0-876d-0ed803c557bd/3072045/eeaa9076-0db4-11f1-9ec9-0e2a2a4330
 83/file/2026-02-05 - Berry Bay CDD Agenda Package.pdf
END:VEVENT
END:VCALENDAR
