BEGIN:VCALENDAR
VERSION:2.0
PRODID:SchoolNow
CALSCALE:GREGORIAN
BEGIN:VEVENT
UID:131a8372-c57a-11f0-93bd-025da0cf94e5
DTSTAMP:20251119T201141Z
SUMMARY:CDD Board Meeting - Mar. 2026
LOCATION:the Offices of Inframark located at 2005 Pan Am Circle\, Suite 300
 \, Tampa\, FL 33607
URL;VALUE=URI:https://www.berrybaycdd.com/calendar/8804202/cdd-board-meetin
 g-mar-2026
DTSTART:20260305T190000Z
DTEND:20260305T200000Z
END:VEVENT
END:VCALENDAR
