BEGIN:VCALENDAR
VERSION:2.0
PRODID:SchoolNow
CALSCALE:GREGORIAN
BEGIN:VEVENT
UID:1adee634-c57a-11f0-a8dd-0e924e89945b
DTSTAMP:20251119T201147Z
SUMMARY:CDD Board Meeting - Apr. 2026
LOCATION:the Offices of Inframark located at 2005 Pan Am Circle\, Suite 300
 \, Tampa\, FL 33607
URL;VALUE=URI:https://www.berrybaycdd.com/calendar/8804210/cdd-board-meetin
 g-apr-2026
DTSTART:20260402T180000Z
DTEND:20260402T190000Z
END:VEVENT
END:VCALENDAR
