BEGIN:VCALENDAR
VERSION:2.0
PRODID:SchoolNow
CALSCALE:GREGORIAN
BEGIN:VEVENT
UID:2339d442-c57a-11f0-8a1a-0a58a9feac02
DTSTAMP:20251119T201159Z
SUMMARY:CDD Board Meeting - May 2026
LOCATION:the Offices of Inframark located at 2005 Pan Am Circle\, Suite 300
 \, Tampa\, FL 33607
URL;VALUE=URI:https://www.berrybaycdd.com/calendar/8804211/cdd-board-meetin
 g-may-2026
DTSTART:20260507T180000Z
DTEND:20260507T190000Z
END:VEVENT
END:VCALENDAR
