BEGIN:VCALENDAR
VERSION:2.0
PRODID:SchoolNow
CALSCALE:GREGORIAN
BEGIN:VEVENT
UID:49b8e0cc-c57a-11f0-81f2-02343ccddbd9
DTSTAMP:20251119T201227Z
SUMMARY:CDD Board Meeting - Sept. 2026
LOCATION:the Offices of Inframark located at 2005 Pan Am Circle\, Suite 300
 \, Tampa\, FL 33607
URL;VALUE=URI:https://www.berrybaycdd.com/calendar/8804215/cdd-board-meetin
 g-sept-2026
DTSTART:20260903T180000Z
DTEND:20260903T190000Z
END:VEVENT
END:VCALENDAR
