BEGIN:VCALENDAR
VERSION:2.0
PRODID:SchoolNow
CALSCALE:GREGORIAN
BEGIN:VEVENT
UID:1600f302-f629-11f0-81a4-0afffba23265
DTSTAMP:20260120T175437Z
SUMMARY:CDD Board Meeting - Dec. 2025
LOCATION:The Offices of Inframark located at 2005 Pan Am Circle\, Suite 300
 \, Tampa\, FL 33607
URL;VALUE=URI:https://www.berrybaycdd.com/calendar/8838162/cdd-board-meetin
 g-dec-2025
DTSTART:20251218T190000Z
DTEND:20251218T200000Z
ATTACH;FILENAME=2025-12-18 Berry Bay Agenda.pdf;FMTTYPE=application/pdf:htt
 ps://campussuite-storage.s3.amazonaws.com/prod/1559303/cb94cfdc-baaa-11f0-
 876d-0ed803c557bd/3061828/aa1fd928-f628-11f0-9df2-0a58a9feac02/file/2025-1
 2-18 Berry Bay Agenda.pdf
END:VEVENT
END:VCALENDAR
